0.40675826973272
0.00000000000000
0.00000000000000
-0.40675826973272
741797.09274128615000
4554396.25774262750000
