0.40646577446436
0.00000000000000
0.00000000000000
-0.40646577446436
761809.40498643485000
4552395.91968504620000
